BEGIN:VCALENDAR
VERSION:2.0
PRODID:-//BDPNN - ECPv5.10.0//NONSGML v1.0//EN
CALSCALE:GREGORIAN
METHOD:PUBLISH
X-WR-CALNAME:BDPNN
X-ORIGINAL-URL:https://bdpnnetwork.org
X-WR-CALDESC:Events for BDPNN
BEGIN:VTIMEZONE
TZID:America/Los_Angeles
BEGIN:DAYLIGHT
TZOFFSETFROM:-0800
TZOFFSETTO:-0700
TZNAME:PDT
DTSTART:20170312T100000
END:DAYLIGHT
BEGIN:STANDARD
TZOFFSETFROM:-0700
TZOFFSETTO:-0800
TZNAME:PST
DTSTART:20171105T090000
END:STANDARD
BEGIN:DAYLIGHT
TZOFFSETFROM:-0800
TZOFFSETTO:-0700
TZNAME:PDT
DTSTART:20180311T100000
END:DAYLIGHT
BEGIN:STANDARD
TZOFFSETFROM:-0700
TZOFFSETTO:-0800
TZNAME:PST
DTSTART:20181104T090000
END:STANDARD
BEGIN:DAYLIGHT
TZOFFSETFROM:-0800
TZOFFSETTO:-0700
TZNAME:PDT
DTSTART:20190310T100000
END:DAYLIGHT
BEGIN:STANDARD
TZOFFSETFROM:-0700
TZOFFSETTO:-0800
TZNAME:PST
DTSTART:20191103T090000
END:STANDARD
BEGIN:DAYLIGHT
TZOFFSETFROM:-0800
TZOFFSETTO:-0700
TZNAME:PDT
DTSTART:20200308T100000
END:DAYLIGHT
BEGIN:STANDARD
TZOFFSETFROM:-0700
TZOFFSETTO:-0800
TZNAME:PST
DTSTART:20201101T090000
END:STANDARD
BEGIN:DAYLIGHT
TZOFFSETFROM:-0800
TZOFFSETTO:-0700
TZNAME:PDT
DTSTART:20210314T100000
END:DAYLIGHT
BEGIN:STANDARD
TZOFFSETFROM:-0700
TZOFFSETTO:-0800
TZNAME:PST
DTSTART:20211107T090000
END:STANDARD
BEGIN:DAYLIGHT
TZOFFSETFROM:-0800
TZOFFSETTO:-0700
TZNAME:PDT
DTSTART:20220313T100000
END:DAYLIGHT
BEGIN:STANDARD
TZOFFSETFROM:-0700
TZOFFSETTO:-0800
TZNAME:PST
DTSTART:20221106T090000
END:STANDARD
BEGIN:DAYLIGHT
TZOFFSETFROM:-0800
TZOFFSETTO:-0700
TZNAME:PDT
DTSTART:20230312T100000
END:DAYLIGHT
BEGIN:STANDARD
TZOFFSETFROM:-0700
TZOFFSETTO:-0800
TZNAME:PST
DTSTART:20231105T090000
END:STANDARD
BEGIN:DAYLIGHT
TZOFFSETFROM:-0800
TZOFFSETTO:-0700
TZNAME:PDT
DTSTART:20240310T100000
END:DAYLIGHT
BEGIN:STANDARD
TZOFFSETFROM:-0700
TZOFFSETTO:-0800
TZNAME:PST
DTSTART:20241103T090000
END:STANDARD
BEGIN:DAYLIGHT
TZOFFSETFROM:-0800
TZOFFSETTO:-0700
TZNAME:PDT
DTSTART:20250309T100000
END:DAYLIGHT
BEGIN:STANDARD
TZOFFSETFROM:-0700
TZOFFSETTO:-0800
TZNAME:PST
DTSTART:20251102T090000
END:STANDARD
END:VTIMEZONE
BEGIN:VEVENT
DTSTART;TZID=America/Los_Angeles:20170910T100000
DTEND;TZID=America/Los_Angeles:20170910T170000
DTSTAMP:20260422T145724
CREATED:20170829T033947Z
LAST-MODIFIED:20170907T220435Z
UID:3025-1505037600-1505062800@bdpnnetwork.org
SUMMARY:Solano Stroll
DESCRIPTION:Join us at our booth at the Solano Stroll\, located on the NE corner of Colusa@Solano!
URL:https://bdpnnetwork.org/event/solano-stroll/
CATEGORIES:BDPNN Meetings,Community Activities
END:VEVENT
BEGIN:VEVENT
DTSTART;TZID=America/Los_Angeles:20170916T110000
DTEND;TZID=America/Los_Angeles:20170916T130000
DTSTAMP:20260422T145724
CREATED:20170907T001845Z
LAST-MODIFIED:20170925T182342Z
UID:3043-1505559600-1505566800@bdpnnetwork.org
SUMMARY:Sports Basement Preparedness Presentation
DESCRIPTION:
URL:https://bdpnnetwork.org/event/sports-basement-preparedness-presentation/
LOCATION:Sports Basement\, 2727 Miliva Street\, Berkeley\, CA\, United States
CATEGORIES:BDPNN Meetings,Community Activities
END:VEVENT
BEGIN:VEVENT
DTSTART;TZID=America/Los_Angeles:20181018T103000
DTEND;TZID=America/Los_Angeles:20181018T130000
DTSTAMP:20260422T145724
CREATED:20180925T211118Z
LAST-MODIFIED:20180925T211118Z
UID:3181-1539858600-1539867600@bdpnnetwork.org
SUMMARY:The Great Shakeout
DESCRIPTION:The ShakeOut is a worldwide earthquake drill that provides everyone the opportunity to practice taking protective actions during an earthquake.  The goal of the event is to create an interactive environment that will showcase important earthquake preparedness and safety resources for the Berkeley community and share earthquake readiness information with the media throughout the Bay Area.
URL:https://bdpnnetwork.org/event/the-great-shakeout/
LOCATION:Civic Center Park\, 2151 Martin Luther King Jr. Way\, Berkeley\, CA\, 94704\, United States
CATEGORIES:City of Berkeley Meetings,Community Activities
END:VEVENT
BEGIN:VEVENT
DTSTART;TZID=America/Los_Angeles:20181020T100000
DTEND;TZID=America/Los_Angeles:20181020T140000
DTSTAMP:20260422T145724
CREATED:20180830T164741Z
LAST-MODIFIED:20180927T190327Z
UID:3170-1540029600-1540044000@bdpnnetwork.org
SUMMARY:Community-Based Disaster Prep Demo Fair
DESCRIPTION:A public community-based event to demonstrate that a cohesive and resilient community is the best beginning to prepare for and respond to a disaster. \nThis will be a family-friendly event\, with a focus on seniors and people with disabilities. \nGiveaways! Raffles! Games! Food! \nProgram: A grass-roots effort planned and executed by a coalition of community groups and individuals\, featuring demonstrations of disaster response techniques\, and information on how best to prepare for various scenarios. The event will focus not on fear but on the positive power of community. \nPresenters:  \n\nBerkeley resident CERT instructors (Community Emergency Response Training)\nBerkeley Disaster Prep Neighborhood Network\nEast Bay Disaster and Disability Rights Group\nBerkeley Medical Reserve Corp (Cal student EMTs): Stop the Bleed!\nEasy Does It Emergency Services (for people with disabilities and seniors)\nNALCO (ham radio)\nBeCERTAINN (radio operators)\nAnimal Disaster Prep and Care (Jenny Wenk\, retired vet tech)\nP&GE and EBMUD\n\nand others. \nFire extinguisher service: BEST Equipment Co. will be there! $14.95 to service each fire extinguisher (not including hydro-test\, which is required every 12 years); $51.00 each 5# Buckeye fire extinguisher (rated 3A40BC); $38.00 each 2-1/2# Buckeye fire extinguisher (rated 1A10BC). Price includes 9.25% sales tax. They accept Visa\, M/C\, American Express\, checks and cash for payment. \nAnimal care service: We are planning on having low-cost ($10?) chipping service available. Note that if it’s determined that the animal is too young or is in too fearful a state\, chipping may not be provided. \nThis meeting is being held in a wheelchair accessible location. If you require an accommodation for effective communications (ASL interpreting/CART captioning\, alternative media formats\, etc.) or information about mobility access resources in order to fully participate in this event\, please email us at demofair@bdpnnetwork.org with as much advance notice as possible. \nIf you have questions or would like to volunteer\, please contact us at demofair@bdpnnetwork.org!
URL:https://bdpnnetwork.org/event/community-based-dp-demofair/
LOCATION:San Pablo Park\, Berkeley\, 2800 Park Street\, Berkeley\, CA\, 94702\, United States
CATEGORIES:BDPNN Meetings,Community Activities
END:VEVENT
BEGIN:VEVENT
DTSTART;TZID=America/Los_Angeles:20191012T100000
DTEND;TZID=America/Los_Angeles:20191012T150000
DTSTAMP:20260422T145724
CREATED:20190701T011228Z
LAST-MODIFIED:20191007T230132Z
UID:3237-1570874400-1570892400@bdpnnetwork.org
SUMMARY:East Bay Community Emergency Prep Fair
DESCRIPTION:A public community-based event to demonstrate that a cohesive and resilient community is the best beginning to prepare for and respond to a disaster. This will be a family-friendly event\, with a focus on seniors and people with disabilities. A grass-roots effort planned and executed by a coalition of community groups and individuals\, featuring demonstrations of disaster response techniques\, and information on how best to prepare for various scenarios. The event will focus not on fear but on the positive power of community. \nProgram: \nKids’ Events (Grassy Stage): \n11:30 – Storytelling with Berkeley Public Library’s Erica Glenn. Kids age 3-6 and their families are welcome to come hear stories and fun songs about community\, disaster preparedness\, and helping each other.   \n12:30 – Sing-along with Erika Englund and East Bay Community Music Project \n1:00 – Kuk Sul Won Martial Arts Demonstration \n2:00 – Kids’ songs with Braving the Elements \n1:00 – 2:30 BFD fire engine! \nPresentation: \n10:15 – Welcome! Berkeley Council Rep Rashi Kerasawni \n10:30 – How to organize your neighborhood \n11:00 – Basic disaster prep \n11:00 – Building Community\, Building Resiliency: Resilience Hubs Workshop (Activity Room\, 2nd floor) \n11:30 – Wildfire hardening for your home \n12:00 – Urban Foraging Walk \n12:00 – Stop the Bleed (Berkeley Medical Reserve Corp) \n12:00 – 3:00 — Using a Fire Extinguisher \n12:30 – SKIP (Safety Kept in Place) Kits and Preparedness for Seniors \n1:00 – Emergency First Aid and the 3 Killers \n1:30 – How to Use Handheld Radios \n2:00 – Basic Disaster Preparedness \n2:30 – How to organize your neighborhood \n\nExhibitors: \n\nAlameda County 211 (Eden I&R)\nAlameda County Registrar of Voters\nAnimal Disaster Prep and Care (in the Dog Patch)\nBeCERTAINN (radio operators)\nBerkeley Animal Care Services (in the Dog Patch)\nBerkeley Ready\nBerkeley CERT\nBerkeley Disaster Prep Neighborhood Network\nBerkeley Path Wanderers\nBerkeley Tenants Union\nCalifornia Sunlight (solar chargers!)\nDisaster Kit Kitchen – Free food samples made from non-perishable\, disaster kit supplies\nEast Bay Disaster and Disability Rights Group\nEasy Does It Emergency Services (for people with disabilities and seniors)\nEl Cerrito/Kensington CERT\nFEMA\nJumpstart Insurance Solutions (and their Quake Shake Trailer!)\nKids Science Education Booth\nNALCO (ham radio)\nOakland Sudomesh \nP&GE\nSports Basement\nUC Berkeley Disability Lab\nUnited Policy Holders (advocates for the insured)\nFire extinguisher service: BEST Equipment Co. will be there! $14.95 to service each fire extinguisher (not including hydro-test\, which is required every 12 years); $51.00 each 5# Buckeye fire extinguisher (rated 3A40BC); $38.00 each 2-1/2# Buckeye fire extinguisher (rated 1A10BC). Price includes 9.25% sales tax. They accept Visa\, M/C\, American Express\, checks and cash for payment.\n\nAnimal care service: We will have coupons for free microchipping available. \nSPONSORED BY:\n  \n\nCity of Berkeley\nBerkeley Fire Department and Office of Emergency Services\nBerkeley Ready\nBerkeley Disaster Prep Neighborhood Network\n\n \nFREE shuttle service between North Berkeley BART and James Kenney Park provided courtesy of West Berkeley Shuttle\, Bayer\, and Wareham Properties. See map and schedule below. \nParking available at the Berkeley Adult school parking lot (corner of Virginia and San Pablo) from 10 am until 4pm (it will be locked after that). \nValet Bike Parking (until 2pm) and free tune ups by Bay Area BikeMobile!!\nThis meeting is being held in a wheelchair accessible location. If you require an accommodation for effective communications (ASL interpreting/CART captioning\, alternative media formats\, etc.) or information about mobility access resources in order to fully participate in this event\, please email us at demofair@bdpnnetwork.org with as much advance notice as possible. \nIf you have questions or would like to VOLUNTEER\, please contact us at demofair@bdpnnetwork.org!\nIf you are helping by leafleting\, please mark the area you covered on the Leafleting Google Map!
URL:https://bdpnnetwork.org/event/community-based-dp-demofair-2019/
LOCATION:James Kenney Community Center\, 1720 Eighth Street\, Berkeley\, United States
CATEGORIES:BDPNN Meetings,Community Activities
END:VEVENT
BEGIN:VEVENT
DTSTART;TZID=America/Los_Angeles:20230521T090000
DTEND;TZID=America/Los_Angeles:20230521T123000
DTSTAMP:20260422T145724
CREATED:20230424T000545Z
LAST-MODIFIED:20230506T201529Z
UID:3618-1684659600-1684672200@bdpnnetwork.org
SUMMARY:Help survey Berkeley's walking paths
DESCRIPTION:Every 5 years the Berkeley Path Wanderers Association sponsors a path survey and compiles the observations into their Paths Condition Report\, which guides path improvements\, such as adding handrails. Please volunteer to help conduct this year’s survey the morning of Sunday\, May 21. \nThey’ve planned fun hiking routes and encourage you to team up with friends\, neighbors\, and other paths enthusiasts on a morning of walking with a purpose: to take stock of our treasured paths. Depending on the length of your chosen route\, they estimate the surveys will take between 1 and 3.5 hours. \nVisit the sign-up form to find meeting places and times.
URL:https://bdpnnetwork.org/event/berkeley-paths-survey/
CATEGORIES:Community Activities
END:VEVENT
BEGIN:VEVENT
DTSTART;TZID=America/Los_Angeles:20230615T100000
DTEND;TZID=America/Los_Angeles:20230615T233000
DTSTAMP:20260422T145724
CREATED:20230527T171507Z
LAST-MODIFIED:20230527T171544Z
UID:3694-1686823200-1686871800@bdpnnetwork.org
SUMMARY:Landscaping for Wildfire Resilience
DESCRIPTION:Registration required. The Theodore Payne Foundation in Southern California is offering a free Zoom seminar on garden design and maintenance to help protect homes in high-risk fire areas. This program will introduce you to the basics of wildfire through the lens of California native plants and offer easy actions you can take at home to create and maintain a beautiful landscape that is both wildfire resilient and habitat rich. \nWhile most of the data and plant recommendations are Southern-California specific\, this free seminar gives great information on the effect wildfires have on the local ecosystem\, how to select native\, local species\, and how to protect your home.
URL:https://bdpnnetwork.org/event/landscaping-for-wildfire-resilience/
LOCATION:Zoom
CATEGORIES:Community Activities
END:VEVENT
BEGIN:VEVENT
DTSTART;TZID=America/Los_Angeles:20230917T100000
DTEND;TZID=America/Los_Angeles:20230917T140000
DTSTAMP:20260422T145724
CREATED:20230831T170821Z
LAST-MODIFIED:20230831T171000Z
UID:3746-1694944800-1694959200@bdpnnetwork.org
SUMMARY:Fire Ready Fest
DESCRIPTION:Mark your calendars and join BerkeleyReady for a community fire preparedness event and the centennial commemoration of the 1923 Berkeley Fire. \nThere is no registration is required to attend. This is a free\, accessible community event for all ages where you can: \n\nEnjoy games and participate in interactive fire prevention fun including fire safety demonstrations\nLearn about gather information about fire and disaster preparedness\nSample great food from local vendors\nConnect with other community members\nMeet fire personnel and check out a fire engine\n\nFor more event information contact: firereadyfest@gmail.com.
URL:https://bdpnnetwork.org/event/fire-ready-fest/
LOCATION:Live Oak Park\, 1301 Shattuck Ave.\, Berkeley\, CA\, 94709\, United States
CATEGORIES:Community Activities
ATTACH;FMTTYPE=image/jpeg:https://bdpnnetwork.org/wp-content/uploads/2023/08/Fire-Ready-Fest-1.jpg
END:VEVENT
BEGIN:VEVENT
DTSTART;TZID=America/Los_Angeles:20231021T110000
DTEND;TZID=America/Los_Angeles:20231021T160000
DTSTAMP:20260422T145724
CREATED:20230831T171325Z
LAST-MODIFIED:20230831T171325Z
UID:3750-1697886000-1697904000@bdpnnetwork.org
SUMMARY:Harvest Festival
DESCRIPTION:Join the City of Berkeley for the annual Harvest Festival\, a chance to honor the Fall season with live music and kids’ activities. \nThe Festival also features a Food Contest to celebrate our City’s thriving culture of growing and making our own food. Register for the Food Contest. \nChildren will have tons of fun at the Kids Zone\, whether conquering the climbing wall\, running the obstacle course\, bowling with pumpkins\, or making a scarecrow. Other kids’ activities include pumpkin decorating\, a petting zoo\, and carnival games with prizes. \nThroughout the day\, you can dance to the bands for some music in the park. Band announcement coming soon. \nKeeping with the spirit of this event\, sustainable practices are strongly encouraged. Public transit is available via AC Transit (#52); also\, Cedar Rose Park is within walking distance from North Berkeley BART. In addition\, bike parking will be located at the park.
URL:https://bdpnnetwork.org/event/harvest-festival/
LOCATION:Cedar Rose Park\, 1300 Rose St.\, Berkeley\, CA\, 94702\, United States
CATEGORIES:Community Activities
ATTACH;FMTTYPE=image/jpeg:https://bdpnnetwork.org/wp-content/uploads/2023/08/harvest-festival_pears1.jpg
END:VEVENT
BEGIN:VEVENT
DTSTART;TZID=America/Los_Angeles:20250731T183000
DTEND;TZID=America/Los_Angeles:20250731T200000
DTSTAMP:20260422T145724
CREATED:20250719T223000Z
LAST-MODIFIED:20250719T224323Z
UID:3876-1753986600-1753992000@bdpnnetwork.org
SUMMARY:Wildfire Defense and Evacuation Planning
DESCRIPTION:Come join fellow Berkeley residents to hear how Berkeley Firewise communities are preparing neighbors to defend against and respond to possible wildfires. \nDoors open at 6:00 p.m. \nPhoto: Aftermath of the 1923 Berkeley wildfire
URL:https://bdpnnetwork.org/event/wildfire-defense-and-evacuation-planning/
LOCATION:Berkeley Fellowship of Unitarian Universalists\, 1606 Bonita Avenue\, Berkeley\, CA\, 94709\, United States
CATEGORIES:BDPNN Meetings,Community Activities
ATTACH;FMTTYPE=image/jpeg:https://bdpnnetwork.org/wp-content/uploads/2025/07/23berkfire3-1-e1752964644289.jpg
END:VEVENT
END:VCALENDAR