BEGIN:VCALENDAR
VERSION:2.0
PRODID:-//BDPNN - ECPv5.10.0//NONSGML v1.0//EN
CALSCALE:GREGORIAN
METHOD:PUBLISH
X-WR-CALNAME:BDPNN
X-ORIGINAL-URL:https://bdpnnetwork.org
X-WR-CALDESC:Events for BDPNN
BEGIN:VTIMEZONE
TZID:America/Los_Angeles
BEGIN:DAYLIGHT
TZOFFSETFROM:-0800
TZOFFSETTO:-0700
TZNAME:PDT
DTSTART:20200308T100000
END:DAYLIGHT
BEGIN:STANDARD
TZOFFSETFROM:-0700
TZOFFSETTO:-0800
TZNAME:PST
DTSTART:20201101T090000
END:STANDARD
END:VTIMEZONE
BEGIN:VEVENT
DTSTART;TZID=America/Los_Angeles:20200901T080000
DTEND;TZID=America/Los_Angeles:20200901T170000
DTSTAMP:20260421T101034
CREATED:20200901T173702Z
LAST-MODIFIED:20200901T173702Z
UID:3364-1598947200-1598979600@bdpnnetwork.org
SUMMARY:September is National Preparedness Month!
DESCRIPTION:Berkeley Ready has put together a great PDF of what we can do each day of September as a small but important step in better preparing for a large-scale disaster. \nIn addition\, there are two (on 9/15 and 9/29) 1-hour presentations you can attend (unfortunately each is during a weekday at 10:30 a.m.) … you can sign up here: https://www.surveymonkey.com/r/BLM58KG \nOf course\, you’ve already taken a big step by signing up to be on this BDPNN list. Congrats . . . you’re on your way! But in addition: \nWhere can I find more resources?\nCity of Berkeley COVID-19 Information and Resources\nCity of Berkeley Air Quality Information and Resources\nBe Prepared California\nCalifornia Office of Emergency Services\nwww.ready.gov\nNational Preparedness Month 2020 Calendar
URL:https://bdpnnetwork.org/event/september-is-national-preparedness-month/
END:VEVENT
END:VCALENDAR