BEGIN:VCALENDAR
VERSION:2.0
PRODID:-//BDPNN - ECPv5.10.0//NONSGML v1.0//EN
CALSCALE:GREGORIAN
METHOD:PUBLISH
X-WR-CALNAME:BDPNN
X-ORIGINAL-URL:https://bdpnnetwork.org
X-WR-CALDESC:Events for BDPNN
BEGIN:VTIMEZONE
TZID:America/Los_Angeles
BEGIN:DAYLIGHT
TZOFFSETFROM:-0800
TZOFFSETTO:-0700
TZNAME:PDT
DTSTART:20200308T100000
END:DAYLIGHT
BEGIN:STANDARD
TZOFFSETFROM:-0700
TZOFFSETTO:-0800
TZNAME:PST
DTSTART:20201101T090000
END:STANDARD
END:VTIMEZONE
BEGIN:VEVENT
DTSTART;TZID=America/Los_Angeles:20200430T183000
DTEND;TZID=America/Los_Angeles:20200430T200000
DTSTAMP:20260420T082704
CREATED:20200304T171505Z
LAST-MODIFIED:20200421T001812Z
UID:3341-1588271400-1588276800@bdpnnetwork.org
SUMMARY:POSTPONED! FREE Go-Kit Giveaway for Seniors and People with Disabilities
DESCRIPTION:Postponed. If you signed up\, you’ll still be eligible. Details to come. Sign up ONLINE!
URL:https://bdpnnetwork.org/event/free-go-kit-giveaway-for-seniors-and-people-with-disabilities/
LOCATION:Berkeley Fellowship of Unitarian Universalists\, 1606 Bonita Avenue\, Berkeley\, CA\, 94709\, United States
END:VEVENT
END:VCALENDAR