BEGIN:VCALENDAR
VERSION:2.0
PRODID:-//BDPNN - ECPv5.10.0//NONSGML v1.0//EN
CALSCALE:GREGORIAN
METHOD:PUBLISH
X-WR-CALNAME:BDPNN
X-ORIGINAL-URL:https://bdpnnetwork.org
X-WR-CALDESC:Events for BDPNN
BEGIN:VTIMEZONE
TZID:America/Los_Angeles
BEGIN:DAYLIGHT
TZOFFSETFROM:-0800
TZOFFSETTO:-0700
TZNAME:PDT
DTSTART:20180311T100000
END:DAYLIGHT
BEGIN:STANDARD
TZOFFSETFROM:-0700
TZOFFSETTO:-0800
TZNAME:PST
DTSTART:20181104T090000
END:STANDARD
END:VTIMEZONE
BEGIN:VEVENT
DTSTART;TZID=America/Los_Angeles:20180926T190000
DTEND;TZID=America/Los_Angeles:20180926T210000
DTSTAMP:20260422T190744
CREATED:20171213T172849Z
LAST-MODIFIED:20171213T172849Z
UID:3096-1537988400-1537995600@bdpnnetwork.org
SUMMARY:Disaster and Fire Safety Commission meeting
DESCRIPTION:
URL:https://bdpnnetwork.org/event/disaster-and-fire-safety-commission-meeting-2-2-2-2-2-2-2/
LOCATION:Berkeley Fire Department Division of Training\, 997 Cedar Street\, Berkeley\, CA\, 94710
ORGANIZER;CN="Disaster%20Commission":MAILTO:KMay@cityofberkeley.info 
END:VEVENT
END:VCALENDAR