BEGIN:VCALENDAR
VERSION:2.0
PRODID:-//BDPNN - ECPv5.10.0//NONSGML v1.0//EN
CALSCALE:GREGORIAN
METHOD:PUBLISH
X-WR-CALNAME:BDPNN
X-ORIGINAL-URL:https://bdpnnetwork.org
X-WR-CALDESC:Events for BDPNN
BEGIN:VTIMEZONE
TZID:America/Los_Angeles
BEGIN:DAYLIGHT
TZOFFSETFROM:-0800
TZOFFSETTO:-0700
TZNAME:PDT
DTSTART:20190310T100000
END:DAYLIGHT
BEGIN:STANDARD
TZOFFSETFROM:-0700
TZOFFSETTO:-0800
TZNAME:PST
DTSTART:20191103T090000
END:STANDARD
END:VTIMEZONE
BEGIN:VEVENT
DTSTART;TZID=America/Los_Angeles:20190907T110000
DTEND;TZID=America/Los_Angeles:20190907T160000
DTSTAMP:20260419T112534
CREATED:20190720T172047Z
LAST-MODIFIED:20190823T234957Z
UID:3240-1567854000-1567872000@bdpnnetwork.org
SUMMARY:Community Day! (7th annual)
DESCRIPTION:Event sponsored by Covenant Church’s Social Worker Ministry\, City Help Community Services\, the Berkeley Unified School District’s Office of Family Engagement and Equity\, and Supply.org. \nThere will be non-profit organizations offering community resource information\, vendors\, activities for children\, games\, free blood pressure checks\, free mammograms\, free haircuts\, raffles\, and free community lunch.
URL:https://bdpnnetwork.org/event/community-day-7th-annual/
LOCATION:San Pablo Park\, Berkeley\, 2800 Park Street\, Berkeley\, CA\, 94702\, United States
ORGANIZER;CN="Social%20Workers%20Ministry":MAILTO:SocialWorkers@cwcmininstry.org
END:VEVENT
END:VCALENDAR