BEGIN:VCALENDAR
VERSION:2.0
PRODID:-//BDPNN - ECPv5.10.0//NONSGML v1.0//EN
CALSCALE:GREGORIAN
METHOD:PUBLISH
X-WR-CALNAME:BDPNN
X-ORIGINAL-URL:https://bdpnnetwork.org
X-WR-CALDESC:Events for BDPNN
BEGIN:VTIMEZONE
TZID:America/Los_Angeles
BEGIN:DAYLIGHT
TZOFFSETFROM:-0800
TZOFFSETTO:-0700
TZNAME:PDT
DTSTART:20210314T100000
END:DAYLIGHT
BEGIN:STANDARD
TZOFFSETFROM:-0700
TZOFFSETTO:-0800
TZNAME:PST
DTSTART:20211107T090000
END:STANDARD
END:VTIMEZONE
BEGIN:VEVENT
DTSTART;TZID=America/Los_Angeles:20210408T190000
DTEND;TZID=America/Los_Angeles:20210408T200000
DTSTAMP:20260416T201613
CREATED:20210326T024237Z
LAST-MODIFIED:20210411T150323Z
UID:3380-1617908400-1617912000@bdpnnetwork.org
SUMMARY:Community Planning Meeting for April 17 Emergency Exercise
DESCRIPTION:On April 17\, BeCERTAINN will host a GMRS repeater radio communications exercise. \nBDPNN is working to expand the exercise to the entire community to better prepare for and respond to an earthquake scenario\, especially within a pandemic context! \nWe will meet as a community to offer suggestions and to hear ideas from the community as to how they can participate as individuals\, as CERT groups\, as households\, as neighborhood groups. \nCome and get ideas for how to structure your participation in this exercise\, and come and share your thoughts and experience in participating in disaster response exercises. \nClick here to view a recording of the event.
URL:https://bdpnnetwork.org/event/041721-exercise-planning-mtg/
LOCATION:Zoom
CATEGORIES:BDPNN Meetings,BeCERTAINN
END:VEVENT
END:VCALENDAR